BEGIN:VCALENDAR
VERSION:2.0
PRODID:-//KABBALA ONLINE - ECPv5.16.4//NONSGML v1.0//EN
CALSCALE:GREGORIAN
METHOD:PUBLISH
X-WR-CALNAME:KABBALA ONLINE
X-ORIGINAL-URL:http://kabbala-online.nl
X-WR-CALDESC:Evenementen voor KABBALA ONLINE
BEGIN:VTIMEZONE
TZID:Europe/Amsterdam
BEGIN:DAYLIGHT
TZOFFSETFROM:+0100
TZOFFSETTO:+0200
TZNAME:CEST
DTSTART:20210328T010000
END:DAYLIGHT
BEGIN:STANDARD
TZOFFSETFROM:+0200
TZOFFSETTO:+0100
TZNAME:CET
DTSTART:20211031T010000
END:STANDARD
END:VTIMEZONE
BEGIN:VEVENT
DTSTART;TZID=Europe/Amsterdam:20210821T193000
DTEND;TZID=Europe/Amsterdam:20210821T210000
DTSTAMP:20260425T125411
CREATED:20190108T203335Z
LAST-MODIFIED:20210321T104410Z
UID:303-1629574200-1629579600@kabbala-online.nl
SUMMARY:Introductiecursus Kabbala
DESCRIPTION:Kabbala is een millennia oude wijsheid die de geestelijke werelden beschrijft. Kabbala is het Hebreeuwse werkwoord voor “ontvangen”. In het kader van Kabbala als wijsheid\, wordt hiermee het ontvangen van het Hogere Licht (אור עליון) bedoeld. Iemand die Kabbala studeert en daarmee inzicht verkrijgt in de geestelijke werelden\, wordt Kabbalist genoemd. Het verkrijgen van inzicht in de geestelijke werelden gaat één op één samen met de persoonlijke ontdekking van de doel van het leven. De levensvragen die de mensheid al millennia ‘teisteren’ worden voor de individu\, die deze wijsheid vanuit de authentieke bronnen intensief studeert\, beantwoord.\n\n\nDe introductie cursus wordt op maat gegeven.\nPer avond wordt een deel van de ontwikkeling van de geestelijke werelden uitgelegd. Het is aan de vragen van de cursisten in hoeverre we de diepte in gaan\, en waar we ons op focussen.\nDe leidraad is vooralsnog de Inleiding tot de wijsheid Kabbala en er wordt getracht om per week een hoofdstuk door te nemen. \nMeld u aan door bij contact uw deelname door te geven.\nI.v.m. corona wordt de definitieve datum later vastgesteld.
URL:http://kabbala-online.nl/event/introductiecursus-kabbala/
LOCATION:Houten\, Onderdoor 160\, Houten\, Nederland\, 3995 DX\, Nederland
CATEGORIES:Cursus
ATTACH;FMTTYPE=image/jpeg:http://kabbala-online.nl/wp-content/uploads/2019/01/Hand.jpg
ORGANIZER;CN="Izak":MAILTO:webmaster@kabbala-online.nl
END:VEVENT
END:VCALENDAR